67.801545732025
0.159283095269
0.159283095269
-67.801545732025
516748.598655734040
4821075.103764921400
