68.174042029835
1.257664763873
1.257664763873
-68.174042029835
531283.447519130660
4814668.655825038400
