67.930730065058
1.174979071626
1.174979071626
-67.930730065058
518445.292991818740
4816569.550652335400
