67.920240062013
0.350583095944
0.350583095944
-67.920240062013
516054.442527353010
4819943.556937874300
