68.046441451986
0.008770824349
0.008770824349
-68.046441451986
516928.719295287560
4825800.814203016500
