71.948122552006
0.023345168125
0.023345168125
-71.948122552006
519886.892968874310
4843814.849676129400
