0.250000
0.000000
0.000000
-0.250000
586550.125000
4761459.875000
