0.250000
0.000000
0.000000
-0.250000
589940.125000
4761509.875000
