0.250000
0.000000
0.000000
-0.250000
576390.125000
4759019.875000
