0.250000
0.000000
0.000000
-0.250000
583180.125000
4759099.875000
