0.250000
0.000000
0.000000
-0.250000
576410.125000
4756709.875000
