0.250000
0.000000
0.000000
-0.250000
583240.125000
4754479.875000
