0.250000
0.000000
0.000000
-0.250000
576460.125000
4752079.875000
