0.250000
0.000000
0.000000
-0.250000
586660.125000
4752209.875000
