0.250000
0.000000
0.000000
-0.250000
613720.125000
4761869.875000
