0.250000
0.000000
0.000000
-0.250000
596770.125000
4759289.875000
