0.250000
0.000000
0.000000
-0.250000
593400.125000
4756929.875000
