0.250000
0.000000
0.000000
-0.250000
600230.125000
4754709.875000
