0.250000
0.000000
0.000000
-0.250000
593470.125000
4752299.875000
