0.250000
0.000000
0.000000
-0.250000
596870.125000
4752349.875000
