0.250000
0.000000
0.000000
-0.250000
607070.125000
4752509.875000
