0.250000
0.000000
0.000000
-0.250000
593530.125000
4747669.875000
