0.250000
0.000000
0.000000
-0.250000
596930.125000
4747719.875000
