0.250000
0.000000
0.000000
-0.250000
607180.125000
4745559.875000
