0.250000
0.000000
0.000000
-0.250000
617390.125000
4745739.875000
