0.250000
0.000000
0.000000
-0.250000
634100.125000
4762249.875000
