0.250000
0.000000
0.000000
-0.250000
634140.125000
4759939.875000
