0.250000
0.000000
0.000000
-0.250000
640980.125000
4757759.875000
