0.250000
0.000000
0.000000
-0.250000
637630.125000
4755379.875000
