0.250000
0.000000
0.000000
-0.250000
644430.125000
4755519.875000
