0.250000
0.000000
0.000000
-0.250000
630880.125000
4752929.875000
