0.250000
0.000000
0.000000
-0.250000
634320.125000
4750679.875000
