0.250000
0.000000
0.000000
-0.250000
637720.125000
4750749.875000
