0.250000
0.000000
0.000000
-0.250000
634410.125000
4746059.875000
