0.250000
0.000000
0.000000
-0.250000
647730.125000
4760219.875000
