0.250000
0.000000
0.000000
-0.250000
647780.125000
4757909.875000
