0.250000
0.000000
0.000000
-0.250000
654580.125000
4758059.875000
