0.250000
0.000000
0.000000
-0.250000
664770.125000
4758309.875000
