0.250000
0.000000
0.000000
-0.250000
668170.125000
4758389.875000
