0.250000
0.000000
0.000000
-0.250000
671570.125000
4758479.875000
