0.250000
0.000000
0.000000
-0.250000
647830.125000
4755599.875000
