0.250000
0.000000
0.000000
-0.250000
658080.125000
4753519.875000
