0.250000
0.000000
0.000000
-0.250000
658140.125000
4751199.875000
