0.250000
0.000000
0.000000
-0.250000
664940.125000
4751369.875000
