0.250000
0.000000
0.000000
-0.250000
678310.125000
4760969.875000
