0.250000
0.000000
0.000000
-0.250000
678430.125000
4756339.875000
