0.250000
0.000000
0.000000
-0.250000
678490.125000
4754029.875000
