0.250000
0.000000
0.000000
-0.250000
559540.125000
4742649.875000
