0.250000
0.000000
0.000000
-0.250000
559580.125000
4738019.875000
