0.250000
0.000000
0.000000
-0.250000
562990.125000
4738059.875000
